BEGIN:VCALENDAR
VERSION:2.0
PRODID:-//wp-events-plugin.com//7.2.3.1//EN
BEGIN:VEVENT
UID:225@wakelyns.co.uk
DTSTART:20231202T100000Z
DTEND:20231202T170000Z
DTSTAMP:20231023T160752Z
URL:https://wakelyns.co.uk/events/wreaths-and-stars/
SUMMARY:Wreaths and Stars
DESCRIPTION:\n\nCome to Wakelyns and create 3 beautiful\, sustainable decor
 ations for your festive season.\n\nWe’ll be making wreath frames and sta
 r frames\, which we’ll decorate with materials we have foraged from the 
 farm. As we craft\, we’ll talk through some tree lore\, take a peek at t
 he Celtic Tree Wheel of the year and accompanying tree runes to add some m
 agic to your work. Try your hand at pyrography to create some extra adornm
 ent.\n\nFor the final project of the day\, we’ll weave a festive star\, 
 perfect for a tree topper.\n\nThe day starts at 10am and ends at 5pm.\n\nE
 ach course comes with tea\, coffee\, biscuits\, cake and delicious lunch m
 ade by Henrietta in the Wakelyns Bakery.\n\nA selection of wonderful festi
 ve treats from the Bakery is available on the day.\n\nFor information abou
 t Adam and Emma (Willow Phoenix at Wakelyns) click here\n\nAlso: Wakelyns 
 Bakery Christmas Pop Up Shop! \n\nDuring the day\, you will also be able t
 o buy delicious delights\, which also make super Christmas gifts\, from Wa
 kelyns Bakery –\n\nMixed and single variety apple juice and cider vinega
 r\; jams\, chutneys\, pickles\, and squash squash\; granola\; biscuits and
  more! \n\nAll made with the organic fruit and vegetables grown just on th
 e bakery’s doorstep in the arable crop and tree alleys of the agroforest
 ry system at Wakelyns\, and from other agroecological farming friends. 
LOCATION:Wakelyns\, Wakelyns\, Fressingfield\, United Kingdom
X-APPLE-STRUCTURED-LOCATION;VALUE=URI;X-ADDRESS=Wakelyns\, Fressingfield\, 
 United Kingdom;X-APPLE-RADIUS=100;X-TITLE=Wakelyns:geo:0,0
END:VEVENT
END:VCALENDAR