BEGIN:VCALENDAR
VERSION:2.0
PRODID:-//wp-events-plugin.com//7.2.3.1//EN
BEGIN:VEVENT
UID:113@wakelyns.co.uk
DTSTART;VALUE=DATE:20220709
DTEND;VALUE=DATE:20220711
DTSTAMP:20220210T112012Z
URL:https://wakelyns.co.uk/events/willow-weaving-3/
SUMMARY:Willow Weaving - Heritage Frame Baskets (2-Day Course)
DESCRIPTION:Heritage Frame Baskets\nFrame basket making dates back to the C
 elts and the baskets have been essential items in homes for thousands of y
 ears. Join us for 2 days to make\; a leaf tray\, a berry basket and a Henn
 y Penny basket. Creating these frame baskets will provide a great opportun
 ity to immerse yourself in this ancient craft\, in the idyllic surrounding
 s of Wakelyns Farm.\n\nIncludes a delicious lunch from the Wakelyns Bakery
 \n\nAll equipment and materials are included. Take home your makings.\n\nA
 ccommodation is available\, but not included in this ticket price.
LOCATION:Wakelyns\, Wakelyns\, Fressingfield\, United Kingdom
X-APPLE-STRUCTURED-LOCATION;VALUE=URI;X-ADDRESS=Wakelyns\, Fressingfield\, 
 United Kingdom;X-APPLE-RADIUS=100;X-TITLE=Wakelyns:geo:0,0
END:VEVENT
END:VCALENDAR