BEGIN:VCALENDAR
VERSION:2.0
PRODID:-//wp-events-plugin.com//7.2.3.1//EN
BEGIN:VEVENT
UID:112@wakelyns.co.uk
DTSTART:20220626T090000Z
DTEND:20220626T160000Z
DTSTAMP:20220209T175117Z
URL:https://wakelyns.co.uk/events/willow-weaving-2/
SUMMARY:Willow Sculpture - Duck
DESCRIPTION:&nbsp\;\nWillow Duck Sculpture\nCome and make a willow duck at 
 Wakelyns. Make one with us in the classroom or the farmyard\, whilst learn
 ing the techniques of sculpting with willow. Take away enough supplies and
  new-found knowledge to make another at home.\n\nIncludes a delicious lunc
 h from the Wakelyns Bakery\n\nAll equipment and materials are included. Ta
 ke home your makings.\n\n
ATTACH;FMTTYPE=image/jpeg:https://wakelyns.co.uk/wp-content/uploads/2022/0
 2/Willow-Duck-Sculpture-1.jpg
LOCATION:Wakelyns\, Wakelyns\, Fressingfield\, United Kingdom
X-APPLE-STRUCTURED-LOCATION;VALUE=URI;X-ADDRESS=Wakelyns\, Fressingfield\, 
 United Kingdom;X-APPLE-RADIUS=100;X-TITLE=Wakelyns:geo:0,0
END:VEVENT
END:VCALENDAR