BEGIN:VCALENDAR
VERSION:2.0
PRODID:-//wp-events-plugin.com//7.2.3.1//EN
BEGIN:VEVENT
UID:227@wakelyns.co.uk
DTSTART:20231125T100000Z
DTEND:20231125T170000Z
DTSTAMP:20231020T165003Z
URL:https://wakelyns.co.uk/events/willow-angels/
SUMMARY:Willow Angels
DESCRIPTION:\nLearn to make an angel lantern with willow and lantern paper.
  \nDuring this course\, you’ll learn to make two types of Christmas ange
 l for your home and garden.\n\nIn the morning we’ll create an angel lant
 ern with willow and lantern paper. They look beautiful when lit with LEDs.
  Perfect indoors or out.\n\nIn the afternoon\, weather permitting\, we’l
 l visit the willow rows and coppice the materials for our living willow an
 gels. This time\, we’ll make a larger piece\, which you can plant and gr
 ow. These angels make a great Christmas feature and can then be used as pl
 ant supports in the spring.\n\nThe day starts at 10am and ends at 5pm.\n\n
 Each course comes with tea\, coffee\, biscuits\, cake and delicious lunch 
 made by Henrietta in the Wakelyns Bakery.\n\nA selection of wonderful fest
 ive treats from the Bakery is available on the day.\nBeautiful when lit up
 . Perfect indoors or out. After a delicious Wakelyns Bakery lunch\, we’l
 l also show you how to make a living willow angel to plant at home.\nFor i
 nformation about Adam and Emma (Willow Phoenix at Wakelyns) click here\n\n
 Wakelyns Bakery Christmas Pop Up Shop! \n\nDuring the day\, you will also 
 be able to buy delicious delights\, which also make super Christmas gifts\
 , from Wakelyns Bakery –\n\nMixed and single variety apple juice and cid
 er vinegar\; jams\, chutneys\, pickles\, and squash squash\; granola\; bis
 cuits and more! \n\nAll made with the organic fruit and vegetables grown j
 ust on the bakery’s doorstep in the arable crop and tree alleys of the a
 groforestry system at Wakelyns\, and from other agroecological farming fri
 ends. 
LOCATION:Wakelyns\, Wakelyns\, Fressingfield\, United Kingdom
X-APPLE-STRUCTURED-LOCATION;VALUE=URI;X-ADDRESS=Wakelyns\, Fressingfield\, 
 United Kingdom;X-APPLE-RADIUS=100;X-TITLE=Wakelyns:geo:0,0
END:VEVENT
END:VCALENDAR