BEGIN:VCALENDAR
VERSION:2.0
PRODID:-//wp-events-plugin.com//7.2.3.1//EN
BEGIN:VEVENT
UID:185@wakelyns.co.uk
DTSTART:20231007T100000Z
DTEND:20231007T170000Z
DTSTAMP:20230905T171420Z
URL:https://wakelyns.co.uk/events/weave-a-traditional-log-basket/
SUMMARY:Weave a Traditional Log Basket
DESCRIPTION:\nWeave a Traditional Log Basket\n\n\n\nLearn to make this larg
 e\, sturdy\, traditional log basket\, which will last you a lifetime. Just
  in time for the autumn evenings and your log fires\, this basket features
  several weaves and 2 handles. If you don’t have an open fire\, this gre
 at sized basket could still be a really useful\, beautiful addition to you
 r home\, used for storage of any kind.\n\n\n\n7th October ~ 10-5 ~ £115 i
 nc. Bakery Lunch\n
LOCATION:Wakelyns\, Wakelyns\, Fressingfield\, United Kingdom
X-APPLE-STRUCTURED-LOCATION;VALUE=URI;X-ADDRESS=Wakelyns\, Fressingfield\, 
 United Kingdom;X-APPLE-RADIUS=100;X-TITLE=Wakelyns:geo:0,0
END:VEVENT
END:VCALENDAR