BEGIN:VCALENDAR
VERSION:2.0
PRODID:-//wp-events-plugin.com//7.2.3.1//EN
BEGIN:VEVENT
UID:230@wakelyns.co.uk
DTSTART:20240728T093000Z
DTEND:20240728T150000Z
DTSTAMP:20231112T131548Z
URL:https://wakelyns.co.uk/events/wakelyns-bird-butterfly-walk/
SUMMARY:Wakelyns Bird & Butterfly Walk
DESCRIPTION:The full day Wakelyns Bird Walks are designed for absolute begi
 nners to more experienced bird watchers with a focus on garden and woodlan
 d birds.  Even those that struggle to confidently separate Blue Tits from
  Great Tits will get much from this course.\n\nWe will take the day to wal
 k round explore Wakelyns’ unique agroforestry areas to highlight identif
 ication techniques that highlight bird’s behaviour\, shape\, plumage\, s
 ongs and calls\, the key to enhancing learning experiences.\n\nEach day wi
 ll start at 9.30 am (5.30 am for a ‘Dawn Chorus Walk’\, to get the bes
 t of the birds\, with a lunch break – with a delicious lunch from Henrie
 tta Inman at the Wakelyns Bakery included.\n\n£50 per person\, or £25 fo
 r people on low incomes.\n\nMorning coffee and lunch included.\n\nOn the D
 awn Chorus Bird Walk in 2022 Steve logged 36 species of birds and lots of 
 other wildlife here. And in 2023 it was 38\, as here.
LOCATION:Wakelyns\, Wakelyns\, Fressingfield\, United Kingdom
X-APPLE-STRUCTURED-LOCATION;VALUE=URI;X-ADDRESS=Wakelyns\, Fressingfield\, 
 United Kingdom;X-APPLE-RADIUS=100;X-TITLE=Wakelyns:geo:0,0
END:VEVENT
END:VCALENDAR