BEGIN:VCALENDAR
VERSION:2.0
PRODID:-//wp-events-plugin.com//7.2.3.1//EN
BEGIN:VEVENT
UID:47@wakelyns.co.uk
DTSTART;VALUE=DATE:20210908
DTEND;VALUE=DATE:20210910
DTSTAMP:20210518T162109Z
URL:https://wakelyns.co.uk/events/orfc-itf-camping-8-september/
SUMMARY:ORFC camping 8 September
DESCRIPTION:Camp in the meadow @wakelyns - there is no greater luxury!\n\nY
 our booking will be for 8 September allowing you to stay overnight the mid
 dle night of the ORFC In The Field Event.\n\nEach "space" is for one tent 
 for that night.
LOCATION:Wakelyns\, Wakelyns\, Fressingfield\, United Kingdom
X-APPLE-STRUCTURED-LOCATION;VALUE=URI;X-ADDRESS=Wakelyns\, Fressingfield\, 
 United Kingdom;X-APPLE-RADIUS=100;X-TITLE=Wakelyns:geo:0,0
END:VEVENT
END:VCALENDAR