BEGIN:VCALENDAR
VERSION:2.0
PRODID:-//wp-events-plugin.com//7.2.3.1//EN
BEGIN:VEVENT
UID:152@wakelyns.co.uk
DTSTART:20221126T100000Z
DTEND:20221126T160000Z
DTSTAMP:20221030T091238Z
URL:https://wakelyns.co.uk/events/festive-wreath-making/
SUMMARY:Festive Wreath Making
DESCRIPTION: \n\nJoin Amanda &amp\; Mandy in collecting bits and pieces fro
 m around Wakelyns to make your own willow+ festive wreath (if you wish\, o
 f course\, bring your own extras to make your wreath even more personal). 
 Includes tea/coffee/cake and a delicious Wakelyns Bakery lunch.
LOCATION:Wakelyns\, Wakelyns\, Fressingfield\, United Kingdom
X-APPLE-STRUCTURED-LOCATION;VALUE=URI;X-ADDRESS=Wakelyns\, Fressingfield\, 
 United Kingdom;X-APPLE-RADIUS=100;X-TITLE=Wakelyns:geo:0,0
END:VEVENT
END:VCALENDAR