BEGIN:VCALENDAR
VERSION:2.0
PRODID:-//wp-events-plugin.com//7.2.3.1//EN
BEGIN:VEVENT
UID:103@wakelyns.co.uk
DTSTART:20220508T060000Z
DTEND:20220508T130000Z
DTSTAMP:20220204T154142Z
URL:https://wakelyns.co.uk/events/dawn-chorus-bird-walk/
SUMMARY:Dawn Chorus Bird Walk (feat. Steve Piotrowski)
DESCRIPTION:Join Steve Piotrowski for a Dawn Chorus Bird Walk around the Ag
 roforestry at Wakelyns.\n\nWith a delicious Wakelyns Bakery Brunch include
 d!\n\nFor more information click here
LOCATION:Wakelyns\, Wakelyns\, Fressingfield\, United Kingdom
X-APPLE-STRUCTURED-LOCATION;VALUE=URI;X-ADDRESS=Wakelyns\, Fressingfield\, 
 United Kingdom;X-APPLE-RADIUS=100;X-TITLE=Wakelyns:geo:0,0
END:VEVENT
END:VCALENDAR