BEGIN:VCALENDAR
VERSION:2.0
PRODID:-//wp-events-plugin.com//7.2.3.1//EN
BEGIN:VEVENT
UID:186@wakelyns.co.uk
DTSTART:20230813T100000Z
DTEND:20230813T170000Z
DTSTAMP:20230227T175146Z
URL:https://wakelyns.co.uk/events/contemporary-hazel-handled-basket/
SUMMARY:Contemporary Hazel-Handled Basket
DESCRIPTION:\n\n\n\nWeave a Contemporary Hazel-Handled Basket\nExperimentin
 g with the ‘stake and strand’ method to create a contemporary\, asymme
 trical basket with coppiced hazel handles grown at Wakelyns. A lovely day 
 spent playing with traditional methods and modern design. Your completed b
 asket will be great for foraging\, kindling\, shopping and decoration.\n\n
 13 August ~10-5 ~ £95 inc. Bakery Lunch\n\n
LOCATION:Wakelyns\, Wakelyns\, Fressingfield\, United Kingdom
X-APPLE-STRUCTURED-LOCATION;VALUE=URI;X-ADDRESS=Wakelyns\, Fressingfield\, 
 United Kingdom;X-APPLE-RADIUS=100;X-TITLE=Wakelyns:geo:0,0
END:VEVENT
END:VCALENDAR