BEGIN:VCALENDAR
VERSION:2.0
PRODID:-//wp-events-plugin.com//7.2.3.1//EN
BEGIN:VEVENT
UID:151@wakelyns.co.uk
DTSTART:20221008T130000Z
DTEND:20221008T143000Z
DTSTAMP:20220822T082139Z
URL:https://wakelyns.co.uk/events/community-apple-day-saturday-8-october-1
 2-30-apple-walk/
SUMMARY:Community Apple Day Saturday 8 October 1.00 pm Apple Walk
DESCRIPTION:Please book here the Apple Walk from 13.00 to 14.30 at our Comm
 unity Apple Day on Saturday 8 October.
LOCATION:Wakelyns\, Wakelyns\, Fressingfield\, United Kingdom
X-APPLE-STRUCTURED-LOCATION;VALUE=URI;X-ADDRESS=Wakelyns\, Fressingfield\, 
 United Kingdom;X-APPLE-RADIUS=100;X-TITLE=Wakelyns:geo:0,0
END:VEVENT
END:VCALENDAR