BEGIN:VCALENDAR
VERSION:2.0
PRODID:-//wp-events-plugin.com//7.2.3.1//EN
BEGIN:VEVENT
UID:149@wakelyns.co.uk
DTSTART:20221008T103000Z
DTEND:20221008T120000Z
DTSTAMP:20220822T081404Z
URL:https://wakelyns.co.uk/events/community-apple-day-12-2-arrival/
SUMMARY:Community Apple Day Saturday 8 October 10.30 am Apple Walk
DESCRIPTION:Please book here the Apple Walk from 10.30 to 12.00 at our Comm
 unity Apple Day on Saturday 8 October.
LOCATION:Wakelyns\, Wakelyns\, Fressingfield\, United Kingdom
X-APPLE-STRUCTURED-LOCATION;VALUE=URI;X-ADDRESS=Wakelyns\, Fressingfield\, 
 United Kingdom;X-APPLE-RADIUS=100;X-TITLE=Wakelyns:geo:0,0
END:VEVENT
END:VCALENDAR