BEGIN:VCALENDAR
VERSION:2.0
PRODID:-//wp-events-plugin.com//7.2.3.1//EN
BEGIN:VEVENT
UID:60@wakelyns.co.uk
DTSTART:20211031T100000Z
DTEND:20211031T150000Z
DTSTAMP:20210917T075232Z
URL:https://wakelyns.co.uk/events/apple-day/
SUMMARY:Wakelyns Community Apple Day
DESCRIPTION:Join us for a day of fun and learning for all the family around
  the theme of apples!\n\nAll activities and refreshments from 10-3: willow
  weaving\, apple pressing\, apple identification in the fields\, craft\, b
 aking\, and much more!\n\nAt 12 noon in the Wakelyns Old Barn\, Richard Al
 lenby-Pratt from The Suffolk Project will be talking about his apple photo
 graphy following a short musical introduction from cellist Yalda Davis. He
  will then lead a photography walk (for which booking is essential please)
  around our agroforestry alleys.\n\nAdmission is free but booking is essen
 tial. Accompanied children very welcome!\n\n
LOCATION:Wakelyns\, Wakelyns\, Fressingfield\, United Kingdom
X-APPLE-STRUCTURED-LOCATION;VALUE=URI;X-ADDRESS=Wakelyns\, Fressingfield\, 
 United Kingdom;X-APPLE-RADIUS=100;X-TITLE=Wakelyns:geo:0,0
END:VEVENT
END:VCALENDAR