BEGIN:VCALENDAR
VERSION:2.0
PRODID:-//wp-events-plugin.com//7.2.3.1//EN
BEGIN:VEVENT
UID:191@wakelyns.co.uk
DTSTART:20230521T120000Z
DTEND:20230521T140000Z
DTSTAMP:20230314T161124Z
URL:https://wakelyns.co.uk/events/agroforestry-open-weekend-at-wakelyns-su
 nday-12-2-arrival/
SUMMARY:Agroforestry Open Weekend at Wakelyns Sunday 12-2 arrival
DESCRIPTION:\nPlease book via this page if you plan to arrive at Wakelyns f
 or Agroforestry Open Weekend on Sunday 21 May between 12 noon and 2 pm. \n
 Please read everything set out below before you complete the booking form 
 below.\nWell behaved dogs on leads welcome.\nDelicious food from the Wakel
 yns Bakery is available through the day.\nOne hour long Guided Tree Walks 
 will take place starting at 11 am and 1pm - please book them via the separ
 ate link. Please note that information and booking for our all day guided 
 tree walks and guided bird walks (on other dates in the year) is here.\nOt
 her than that\, you will be welcome to wander round the farm looking at ev
 erything that is happening.  Members of our team will be around to answer
  questions\, and there will be lots of fun stuff going on in the farmyard 
 area.\nPoints of interest as you walk round will be identified by signs sh
 owing QR codes. Scanning those codes with your phone camera will take you 
 web pages with more information about what you are seeing. So please bring
  a "smart phone" for the full experience!\nOn arrival\, our parking team w
 ill meet you at the start of Metfield Lane. Please follow their instructio
 ns and drive carefully and slowly up Metfield Lane to the parking area.\nP
 lease note that the parking area is an approximately 10 minute walk from o
 ur main farmyard area. If you have impaired mobility and need closer/acces
 sible parking\, please let our parking team know when you arrive and they 
 will direct you.\nDuring your arrival and visit please take particular con
 cern to ensure the privacy and amenity of our neighbours.\nOur terms and c
 onditions are here.
LOCATION:Wakelyns\, Wakelyns\, Fressingfield\, United Kingdom
X-APPLE-STRUCTURED-LOCATION;VALUE=URI;X-ADDRESS=Wakelyns\, Fressingfield\, 
 United Kingdom;X-APPLE-RADIUS=100;X-TITLE=Wakelyns:geo:0,0
END:VEVENT
END:VCALENDAR