BEGIN:VCALENDAR
VERSION:2.0
PRODID:-//wp-events-plugin.com//7.2.3.1//EN
BEGIN:VEVENT
UID:189@wakelyns.co.uk
DTSTART:20230520T140000Z
DTEND:20230520T160000Z
DTSTAMP:20230314T160937Z
URL:https://wakelyns.co.uk/events/agroforestry-open-weekend-at-wakelyns-sa
 turday-2-4-arrival/
SUMMARY:Agroforestry Open Weekend at Wakelyns Saturday 2-4 arrival
DESCRIPTION:\nPlease book via this page if you plan to arrive at Wakelyns f
 or Agroforestry Open Weekend on Saturday 20 May between  2 pm and 4 pm \n
 Please read everything set out below before you complete the booking form 
 below.\nWell behaved dogs on leads welcome.\nDelicious food from the Wakel
 yns Bakery is available through the day.\nYou will be welcome to wander ro
 und the farm looking at everything that is happening.  Members of our tea
 m will be around to answer questions\, and there will be lots of fun stuff
  going on in the farmyard area.\nPoints of interest as you walk round will
  be identified by signs showing QR codes. Scanning those codes with your p
 hone camera will take you web pages with more information about what you a
 re seeing. So please bring a "smart phone" for the full experience!\nOn ar
 rival\, our parking team will meet you at the start of Metfield Lane. Plea
 se follow their instructions and drive carefully and slowly up Metfield La
 ne to the parking area.\nPlease note that the parking area is an approxima
 tely 10 minute walk from our main farmyard area. If you have impaired mobi
 lity and need closer/accessible parking\, please let our parking team know
  when you arrive and they will direct you.\nDuring your arrival and visit 
 please take particular concern to ensure the privacy and amenity of our ne
 ighbours.\nOur terms and conditions are here.
LOCATION:Wakelyns\, Wakelyns\, Fressingfield\, United Kingdom
X-APPLE-STRUCTURED-LOCATION;VALUE=URI;X-ADDRESS=Wakelyns\, Fressingfield\, 
 United Kingdom;X-APPLE-RADIUS=100;X-TITLE=Wakelyns:geo:0,0
END:VEVENT
END:VCALENDAR