BEGIN:VCALENDAR
VERSION:2.0
PRODID:-//wp-events-plugin.com//7.2.3.1//EN
BEGIN:VEVENT
UID:188@wakelyns.co.uk
DTSTART:20230520T120000Z
DTEND:20230520T140000Z
DTSTAMP:20230314T160815Z
URL:https://wakelyns.co.uk/events/agroforestry-open-weekend-at-wakelyns-sa
 turday-12-2-arrival/
SUMMARY:Agroforestry Open Weekend at Wakelyns Saturday 12-2 arrival
DESCRIPTION:\nPlease book via this page if you plan to arrive at Wakelyns f
 or Agroforestry Open Weekend on Saturday 20 May between 12 noon and 2 pm. 
 \nPlease read everything set out below before you complete the booking for
 m below.\nWell behaved dogs on leads welcome.\nDelicious food from the Wak
 elyns Bakery is available through the day.\nA one hour long Guided Tree Wa
 lks will take place starting at  1pm - please book via the separate link.
  Please note that information and booking for our all day guided tree walk
 s and guided bird walks (on other dates in the year) is here.\nOther than 
 that\, you will be welcome to wander round the farm looking at everything 
 that is happening.  Members of our team will be around to answer question
 s\, and there will be lots of fun stuff going on in the farmyard area.\nPo
 ints of interest as you walk round will be identified by signs showing QR 
 codes. Scanning those codes with your phone camera will take you web pages
  with more information about what you are seeing. So please bring a "smart
  phone" for the full experience!\nOn arrival\, our parking team will meet 
 you at the start of Metfield Lane. Please follow their instructions and dr
 ive carefully and slowly up Metfield Lane to the parking area.\nPlease not
 e that the parking area is an approximately 10 minute walk from our main f
 armyard area. If you have impaired mobility and need closer/accessible par
 king\, please let our parking team know when you arrive and they will dire
 ct you.\nDuring your arrival and visit please take particular concern to e
 nsure the privacy and amenity of our neighbours.\nOur terms and conditions
  are here.
LOCATION:Wakelyns\, Wakelyns\, Fressingfield\, United Kingdom
X-APPLE-STRUCTURED-LOCATION;VALUE=URI;X-ADDRESS=Wakelyns\, Fressingfield\, 
 United Kingdom;X-APPLE-RADIUS=100;X-TITLE=Wakelyns:geo:0,0
END:VEVENT
END:VCALENDAR